BEGIN:VCALENDAR
VERSION:2.0
PRODID:icalendar-ruby
CALSCALE:GREGORIAN
METHOD:PUBLISH
BEGIN:VEVENT
DTSTAMP:20260419T130956Z
UID:11-317611@fccmorristown.org
DTSTART:20260502T220000Z
DTEND:20260503T000000Z
CLASS:PUBLIC
CREATED:20260325T165753
DESCRIPTION:
LAST-MODIFIED:20260325T165753
LOCATION:
SUMMARY:Men's Bonfire
URL;VALUE=URI:https://fccmorristown.org/events/mens-bonfire/2026-05-02
ATTACH;FILENAME=Vwum.jpg;FMTTYPE=image/jpeg:https://dq5pwpg1q8ru0.cloudfron
 t.net/2026/03/25/20/57/53/601b33b6-c776-4774-802b-5837af3b6c7d/Vwum.jpg
END:VEVENT
END:VCALENDAR
