BEGIN:VCALENDAR
VERSION:2.0
PRODID:icalendar-ruby
CALSCALE:GREGORIAN
METHOD:PUBLISH
BEGIN:VEVENT
DTSTAMP:20260419T120134Z
UID:5-317464@fccmorristown.org
DTSTART:20260823T143000Z
DTEND:20260823T153000Z
CLASS:PUBLIC
CREATED:20260223T144606
DESCRIPTION:Sunday Worship
LAST-MODIFIED:20260223T144606
LOCATION:
SUMMARY:Sunday Worship
URL;VALUE=URI:https://fccmorristown.org/events/sunday-worship/2026-08-23
END:VEVENT
END:VCALENDAR
