BEGIN:VCALENDAR
VERSION:2.0
PRODID:icalendar-ruby
CALSCALE:GREGORIAN
METHOD:PUBLISH
BEGIN:VEVENT
DTSTAMP:20260419T165809Z
UID:14-317622@fccmorristown.org
DTSTART:20260521T153000Z
DTEND:20260521T163000Z
CLASS:PUBLIC
CREATED:20260402T120045
DESCRIPTION:
LAST-MODIFIED:20260402T120045
LOCATION:Morristown Hamblen Library
SUMMARY:Women's Bible Study
URL;VALUE=URI:https://fccmorristown.org/events/womens-bible-study/2026-05-2
 1
ATTACH;FILENAME=womens_bible_study_square.jpg;FMTTYPE=image/jpeg:https://dq
 5pwpg1q8ru0.cloudfront.net/2026/04/02/16/00/45/e93c9eaa-faba-4705-84c2-0dd
 98c429cae/womens_bible_study_square.jpg
END:VEVENT
END:VCALENDAR
